BEGIN:VCALENDAR
VERSION:2.0
PRODID:-//hacksw/handcal//NONSGML v1.0//EN
BEGIN:VEVENT
SUMMARY:Entrainement du 11/04/2026 : Le Rouret
UID:ca2c4bb4-bd07-41db-a52c-7dd383ed292f
DTSTART:20260411T073000Z
DTEND:20260411T103000Z
LOCATION:Localisation   
CATEGORIES:Sportif
STATUS:
DESCRIPTION:<p>Salut LA team</p>
 
 <p>Ce week end on roule dans le
 bois du Rouret</p>
 
 <p>RDV 9h pour depart 9h30 - retour
 12h30</p>
 
 <p>Sur le parking de pre du lac (comme d'hab)</p>
 
 <p>A
 demain</p>
URL;VALUE=URI:https://www.vttbsl.com/evenements/2026/04/11/entrainement-du-11042026-le-rouret-2439843
END:VEVENT
END:VCALENDAR
